BEGIN:VCALENDAR
X-WR-TIMEZONE:Europe/London
PRODID:-//Apple Inc.//iCal 3.0//EN
CALSCALE:GREGORIAN
X-LOTUS-CHARSET:UTF-8
X-WR-CALNAME:Winterslow CofE (Aided) Primary School Trips Calendar
X-WR-CALDESC:Winterslow CofE (Aided) Primary School Trips Calendar
VERSION:2.0
METHOD:PUBLISH
BEGIN:VEVENT
DTSTAMP:20260423T101400
DTSTART:20260511
UID:http://winterslowsp5.greenhousecms.co.uk/Diary/Reception-and-Y1-Trip-to-Hillier-Garden-2026-05-11/index.asp?PCID=140919
URL;VALUE=URI:http://winterslowsp5.greenhousecms.co.uk/Diary/Reception-and-Y1-Trip-to-Hillier-Garden-2026-05-11
SUMMARY:Reception and Y1 Trip to Hillier Gardens
DESCRIPTION: More details - <a id="140919" href="http://winterslowsp5.greenhousecms.co.uk/Diary/Reception-and-Y1-Trip-to-Hillier-Garden-2026-05-11">http://winterslowsp5.greenhousecms.co.uk/Diary/Reception-and-Y1-Trip-to-Hillier-Garden-2026-05-11</a>
END:VEVENT
BEGIN:VEVENT
DTSTAMP:20260423T101400
DTSTART:20260515
UID:http://winterslowsp5.greenhousecms.co.uk/Diary/Y6-SATS-Trip-2026-05-15/index.asp?PCID=140921
URL;VALUE=URI:http://winterslowsp5.greenhousecms.co.uk/Diary/Y6-SATS-Trip-2026-05-15
SUMMARY:Y6 SATS Trip
DESCRIPTION: More details - <a id="140921" href="http://winterslowsp5.greenhousecms.co.uk/Diary/Y6-SATS-Trip-2026-05-15">http://winterslowsp5.greenhousecms.co.uk/Diary/Y6-SATS-Trip-2026-05-15</a>
END:VEVENT
BEGIN:VEVENT
DTSTAMP:20260423T101400
DTSTART:20260610
UID:http://winterslowsp5.greenhousecms.co.uk/Diary/Y6-Leavers-Service-at-Cathedral-2026-06-10/index.asp?PCID=140934
URL;VALUE=URI:http://winterslowsp5.greenhousecms.co.uk/Diary/Y6-Leavers-Service-at-Cathedral-2026-06-10
SUMMARY:Y6 Leavers Service at Cathedral
DESCRIPTION: More details - <a id="140934" href="http://winterslowsp5.greenhousecms.co.uk/Diary/Y6-Leavers-Service-at-Cathedral-2026-06-10">http://winterslowsp5.greenhousecms.co.uk/Diary/Y6-Leavers-Service-at-Cathedral-2026-06-10</a>
END:VEVENT
BEGIN:VEVENT
DTSTAMP:20260423T101400
DTSTART:20260612
UID:http://winterslowsp5.greenhousecms.co.uk/Diary/Year-5-Voices-Inspire-Trip-Salisbury-Ca-2026-04-23/index.asp?PCID=141453
URL;VALUE=URI:http://winterslowsp5.greenhousecms.co.uk/Diary/Year-5-Voices-Inspire-Trip-Salisbury-Ca-2026-04-23
SUMMARY:Year 5 Voices Inspire Trip Salisbury Cathedral
DESCRIPTION: More details - <a id="141453" href="http://winterslowsp5.greenhousecms.co.uk/Diary/Year-5-Voices-Inspire-Trip-Salisbury-Ca-2026-04-23">http://winterslowsp5.greenhousecms.co.uk/Diary/Year-5-Voices-Inspire-Trip-Salisbury-Ca-2026-04-23</a>
END:VEVENT
BEGIN:VEVENT
DTSTAMP:20260423T101400
DTSTART:20260626
UID:http://winterslowsp5.greenhousecms.co.uk/Diary/Y2-Trip-to-Bournemouth-Oceanarium-2026-06-26/index.asp?PCID=140936
URL;VALUE=URI:http://winterslowsp5.greenhousecms.co.uk/Diary/Y2-Trip-to-Bournemouth-Oceanarium-2026-06-26
SUMMARY:Y2 Trip to Bournemouth Oceanarium
DESCRIPTION: More details - <a id="140936" href="http://winterslowsp5.greenhousecms.co.uk/Diary/Y2-Trip-to-Bournemouth-Oceanarium-2026-06-26">http://winterslowsp5.greenhousecms.co.uk/Diary/Y2-Trip-to-Bournemouth-Oceanarium-2026-06-26</a>
END:VEVENT
END:VCALENDAR
