BEGIN:VCALENDAR
X-WR-TIMEZONE:Europe/London
PRODID:-//Apple Inc.//iCal 3.0//EN
CALSCALE:GREGORIAN
X-LOTUS-CHARSET:UTF-8
X-WR-CALNAME:Winterslow CofE (Aided) Primary School Sporting Events Calendar
X-WR-CALDESC:Winterslow CofE (Aided) Primary School Sporting Events Calendar
VERSION:2.0
METHOD:PUBLISH
BEGIN:VEVENT
DTSTAMP:20260423T101400
DTSTART:20260506
UID:http://winterslowsp5.greenhousecms.co.uk/Diary/Y3-4-60-Active-Minutes-2026-05-06/index.asp?PCID=140904
URL;VALUE=URI:http://winterslowsp5.greenhousecms.co.uk/Diary/Y3-4-60-Active-Minutes-2026-05-06
SUMMARY:Y3/4 60 Active Minutes
DESCRIPTION: More details - <a id="140904" href="http://winterslowsp5.greenhousecms.co.uk/Diary/Y3-4-60-Active-Minutes-2026-05-06">http://winterslowsp5.greenhousecms.co.uk/Diary/Y3-4-60-Active-Minutes-2026-05-06</a>
END:VEVENT
BEGIN:VEVENT
DTSTAMP:20260423T101400
DTSTART:20260511
UID:http://winterslowsp5.greenhousecms.co.uk/Diary/Y45-Rounders-2026-05-11/index.asp?PCID=140920
URL;VALUE=URI:http://winterslowsp5.greenhousecms.co.uk/Diary/Y45-Rounders-2026-05-11
SUMMARY:Y4/5 Rounders
DESCRIPTION: More details - <a id="140920" href="http://winterslowsp5.greenhousecms.co.uk/Diary/Y45-Rounders-2026-05-11">http://winterslowsp5.greenhousecms.co.uk/Diary/Y45-Rounders-2026-05-11</a>
END:VEVENT
BEGIN:VEVENT
DTSTAMP:20260423T101400
DTSTART:20260516
UID:http://winterslowsp5.greenhousecms.co.uk/Diary/Salisbury-Mini-Marathon-2026-05-16/index.asp?PCID=140923
URL;VALUE=URI:http://winterslowsp5.greenhousecms.co.uk/Diary/Salisbury-Mini-Marathon-2026-05-16
SUMMARY:Salisbury Mini Marathon
DESCRIPTION: More details - <a id="140923" href="http://winterslowsp5.greenhousecms.co.uk/Diary/Salisbury-Mini-Marathon-2026-05-16">http://winterslowsp5.greenhousecms.co.uk/Diary/Salisbury-Mini-Marathon-2026-05-16</a>
END:VEVENT
BEGIN:VEVENT
DTSTAMP:20260423T101400
DTSTART:20260519
UID:http://winterslowsp5.greenhousecms.co.uk/Diary/Y56-Cricket-2026-05-19/index.asp?PCID=140925
URL;VALUE=URI:http://winterslowsp5.greenhousecms.co.uk/Diary/Y56-Cricket-2026-05-19
SUMMARY:Y5/6 Cricket
DESCRIPTION: More details - <a id="140925" href="http://winterslowsp5.greenhousecms.co.uk/Diary/Y56-Cricket-2026-05-19">http://winterslowsp5.greenhousecms.co.uk/Diary/Y56-Cricket-2026-05-19</a>
END:VEVENT
BEGIN:VEVENT
DTSTAMP:20260423T101400
DTSTART:20260603
UID:http://winterslowsp5.greenhousecms.co.uk/Diary/Y34-Tennis-2026-06-03/index.asp?PCID=140927
URL;VALUE=URI:http://winterslowsp5.greenhousecms.co.uk/Diary/Y34-Tennis-2026-06-03
SUMMARY:Y3&4 Tennis
DESCRIPTION: More details - <a id="140927" href="http://winterslowsp5.greenhousecms.co.uk/Diary/Y34-Tennis-2026-06-03">http://winterslowsp5.greenhousecms.co.uk/Diary/Y34-Tennis-2026-06-03</a>
END:VEVENT
BEGIN:VEVENT
DTSTAMP:20260423T101400
DTSTART:20260609
UID:http://winterslowsp5.greenhousecms.co.uk/Diary/Y56-Quad-Kids-2026-06-09/index.asp?PCID=140932
URL;VALUE=URI:http://winterslowsp5.greenhousecms.co.uk/Diary/Y56-Quad-Kids-2026-06-09
SUMMARY:Y5&6 Quad Kids
DESCRIPTION: More details - <a id="140932" href="http://winterslowsp5.greenhousecms.co.uk/Diary/Y56-Quad-Kids-2026-06-09">http://winterslowsp5.greenhousecms.co.uk/Diary/Y56-Quad-Kids-2026-06-09</a>
END:VEVENT
BEGIN:VEVENT
DTSTAMP:20260423T101400
DTSTART:20260623
UID:http://winterslowsp5.greenhousecms.co.uk/Diary/Y34-Quad-Kids-2026-06-23/index.asp?PCID=140935
URL;VALUE=URI:http://winterslowsp5.greenhousecms.co.uk/Diary/Y34-Quad-Kids-2026-06-23
SUMMARY:Y3&4 Quad Kids
DESCRIPTION: More details - <a id="140935" href="http://winterslowsp5.greenhousecms.co.uk/Diary/Y34-Quad-Kids-2026-06-23">http://winterslowsp5.greenhousecms.co.uk/Diary/Y34-Quad-Kids-2026-06-23</a>
END:VEVENT
END:VCALENDAR
