BEGIN:VCALENDAR
X-WR-TIMEZONE:Europe/London
PRODID:-//Apple Inc.//iCal 3.0//EN
CALSCALE:GREGORIAN
X-LOTUS-CHARSET:UTF-8
X-WR-CALNAME:Winterslow CofE (Aided) Primary School School Events  Calendar
X-WR-CALDESC:Winterslow CofE (Aided) Primary School School Events  Calendar
VERSION:2.0
METHOD:PUBLISH
BEGIN:VEVENT
DTSTAMP:20260423T101400
DTSTART:20260501T000000
DTEND:20260501T143000
UID:http://winterslowsp5.greenhousecms.co.uk/Diary/Living-Museum--Parents-invited-230315pm-2026-05-01/index.asp?PCID=140871
URL;VALUE=URI:http://winterslowsp5.greenhousecms.co.uk/Diary/Living-Museum--Parents-invited-230315pm-2026-05-01
SUMMARY:Living Museum  Parents invited 2.303.15pm
DESCRIPTION: More details - <a id="140871" href="http://winterslowsp5.greenhousecms.co.uk/Diary/Living-Museum--Parents-invited-230315pm-2026-05-01">http://winterslowsp5.greenhousecms.co.uk/Diary/Living-Museum--Parents-invited-230315pm-2026-05-01</a>
END:VEVENT
BEGIN:VEVENT
DTSTAMP:20260423T101400
DTSTART:20260508
UID:http://winterslowsp5.greenhousecms.co.uk/Diary/Sir-David-Attenborough-Day-in-school-ac-2026-05-08/index.asp?PCID=140918
URL;VALUE=URI:http://winterslowsp5.greenhousecms.co.uk/Diary/Sir-David-Attenborough-Day-in-school-ac-2026-05-08
SUMMARY:Sir David Attenborough Day in school activities
DESCRIPTION: More details - <a id="140918" href="http://winterslowsp5.greenhousecms.co.uk/Diary/Sir-David-Attenborough-Day-in-school-ac-2026-05-08">http://winterslowsp5.greenhousecms.co.uk/Diary/Sir-David-Attenborough-Day-in-school-ac-2026-05-08</a>
END:VEVENT
BEGIN:VEVENT
DTSTAMP:20260423T101400
DTSTART:20260508T000000
DTEND:20260508T141500
UID:http://winterslowsp5.greenhousecms.co.uk/Diary/PCSO-Parent-Information-Session-Y56-2026-05-08/index.asp?PCID=140929
URL;VALUE=URI:http://winterslowsp5.greenhousecms.co.uk/Diary/PCSO-Parent-Information-Session-Y56-2026-05-08
SUMMARY:PCSO Parent Information Session Y5&6
DESCRIPTION: More details - <a id="140929" href="http://winterslowsp5.greenhousecms.co.uk/Diary/PCSO-Parent-Information-Session-Y56-2026-05-08">http://winterslowsp5.greenhousecms.co.uk/Diary/PCSO-Parent-Information-Session-Y56-2026-05-08</a>
END:VEVENT
BEGIN:VEVENT
DTSTAMP:20260423T101400
DTSTART:20260511T000000
DTEND:20260514T235900
UID:http://winterslowsp5.greenhousecms.co.uk/Diary/Year-6-SATS-week-2026-05-11/index.asp?PCID=140893
URL;VALUE=URI:http://winterslowsp5.greenhousecms.co.uk/Diary/Year-6-SATS-week-2026-05-11
SUMMARY:Year 6 SATS week
DESCRIPTION: More details - <a id="140893" href="http://winterslowsp5.greenhousecms.co.uk/Diary/Year-6-SATS-week-2026-05-11">http://winterslowsp5.greenhousecms.co.uk/Diary/Year-6-SATS-week-2026-05-11</a>
END:VEVENT
BEGIN:VEVENT
DTSTAMP:20260423T101400
DTSTART:20260519
UID:http://winterslowsp5.greenhousecms.co.uk/Diary/AIM-High-Writing-Day-2026-05-19/index.asp?PCID=140924
URL;VALUE=URI:http://winterslowsp5.greenhousecms.co.uk/Diary/AIM-High-Writing-Day-2026-05-19
SUMMARY:AIM High Writing Day
DESCRIPTION: More details - <a id="140924" href="http://winterslowsp5.greenhousecms.co.uk/Diary/AIM-High-Writing-Day-2026-05-19">http://winterslowsp5.greenhousecms.co.uk/Diary/AIM-High-Writing-Day-2026-05-19</a>
END:VEVENT
BEGIN:VEVENT
DTSTAMP:20260423T101400
DTSTART:20260520T000000
DTEND:20260521T235900
UID:http://winterslowsp5.greenhousecms.co.uk/Diary/Year-6-Bikeability-Group-2-2026-05-20/index.asp?PCID=140902
URL;VALUE=URI:http://winterslowsp5.greenhousecms.co.uk/Diary/Year-6-Bikeability-Group-2-2026-05-20
SUMMARY:Year 6 Bikeability Group 1
DESCRIPTION: More details - <a id="140902" href="http://winterslowsp5.greenhousecms.co.uk/Diary/Year-6-Bikeability-Group-2-2026-05-20">http://winterslowsp5.greenhousecms.co.uk/Diary/Year-6-Bikeability-Group-2-2026-05-20</a>
END:VEVENT
BEGIN:VEVENT
DTSTAMP:20260423T101400
DTSTART:20260522
UID:http://winterslowsp5.greenhousecms.co.uk/Diary/Sports-Day-2026-05-22/index.asp?PCID=140926
URL;VALUE=URI:http://winterslowsp5.greenhousecms.co.uk/Diary/Sports-Day-2026-05-22
SUMMARY:Sports Day
DESCRIPTION: More details - <a id="140926" href="http://winterslowsp5.greenhousecms.co.uk/Diary/Sports-Day-2026-05-22">http://winterslowsp5.greenhousecms.co.uk/Diary/Sports-Day-2026-05-22</a>
END:VEVENT
BEGIN:VEVENT
DTSTAMP:20260423T101400
DTSTART:20260605T000000
DTEND:20260605T151500
UID:http://winterslowsp5.greenhousecms.co.uk/Diary/Parent-Information-session-for-Prosepec-2026-06-05/index.asp?PCID=140928
URL;VALUE=URI:http://winterslowsp5.greenhousecms.co.uk/Diary/Parent-Information-session-for-Prosepec-2026-06-05
SUMMARY:Parent Information session for Prosepective Reception children
DESCRIPTION: More details - <a id="140928" href="http://winterslowsp5.greenhousecms.co.uk/Diary/Parent-Information-session-for-Prosepec-2026-06-05">http://winterslowsp5.greenhousecms.co.uk/Diary/Parent-Information-session-for-Prosepec-2026-06-05</a>
END:VEVENT
BEGIN:VEVENT
DTSTAMP:20260423T101400
DTSTART:20260605
UID:http://winterslowsp5.greenhousecms.co.uk/Diary/Whole-Class-Photos-2026-06-05/index.asp?PCID=140900
URL;VALUE=URI:http://winterslowsp5.greenhousecms.co.uk/Diary/Whole-Class-Photos-2026-06-05
SUMMARY:Whole Class Photos
DESCRIPTION: More details - <a id="140900" href="http://winterslowsp5.greenhousecms.co.uk/Diary/Whole-Class-Photos-2026-06-05">http://winterslowsp5.greenhousecms.co.uk/Diary/Whole-Class-Photos-2026-06-05</a>
END:VEVENT
BEGIN:VEVENT
DTSTAMP:20260423T101400
DTSTART:20260608T000000
DTEND:20260612T235900
UID:http://winterslowsp5.greenhousecms.co.uk/Diary/Phonics-Screening-Week-2026-06-08/index.asp?PCID=140899
URL;VALUE=URI:http://winterslowsp5.greenhousecms.co.uk/Diary/Phonics-Screening-Week-2026-06-08
SUMMARY:Phonics Screening Week
DESCRIPTION: More details - <a id="140899" href="http://winterslowsp5.greenhousecms.co.uk/Diary/Phonics-Screening-Week-2026-06-08">http://winterslowsp5.greenhousecms.co.uk/Diary/Phonics-Screening-Week-2026-06-08</a>
END:VEVENT
BEGIN:VEVENT
DTSTAMP:20260423T101400
DTSTART:20260608T093000
DTEND:20260608T103000
UID:http://winterslowsp5.greenhousecms.co.uk/Diary/Prospective-Reception-Stay-and-Play-2026-06-08/index.asp?PCID=140930
URL;VALUE=URI:http://winterslowsp5.greenhousecms.co.uk/Diary/Prospective-Reception-Stay-and-Play-2026-06-08
SUMMARY:Prospective Reception Stay and Play
DESCRIPTION: More details - <a id="140930" href="http://winterslowsp5.greenhousecms.co.uk/Diary/Prospective-Reception-Stay-and-Play-2026-06-08">http://winterslowsp5.greenhousecms.co.uk/Diary/Prospective-Reception-Stay-and-Play-2026-06-08</a>
END:VEVENT
BEGIN:VEVENT
DTSTAMP:20260423T101400
DTSTART:20260612
UID:http://winterslowsp5.greenhousecms.co.uk/Diary/Annual-Flourishing-Walk-2026-06-12/index.asp?PCID=140894
URL;VALUE=URI:http://winterslowsp5.greenhousecms.co.uk/Diary/Annual-Flourishing-Walk-2026-06-12
SUMMARY:Annual Flourishing Walk
DESCRIPTION: More details - <a id="140894" href="http://winterslowsp5.greenhousecms.co.uk/Diary/Annual-Flourishing-Walk-2026-06-12">http://winterslowsp5.greenhousecms.co.uk/Diary/Annual-Flourishing-Walk-2026-06-12</a>
END:VEVENT
BEGIN:VEVENT
DTSTAMP:20260423T101400
DTSTART:20260618T000000
DTEND:20260619T235900
UID:http://winterslowsp5.greenhousecms.co.uk/Diary/Year-6-Bikeability-Group-1-2026-05-18/index.asp?PCID=140903
URL;VALUE=URI:http://winterslowsp5.greenhousecms.co.uk/Diary/Year-6-Bikeability-Group-1-2026-05-18
SUMMARY:Year 6 Bikeability Group 2
DESCRIPTION: More details - <a id="140903" href="http://winterslowsp5.greenhousecms.co.uk/Diary/Year-6-Bikeability-Group-1-2026-05-18">http://winterslowsp5.greenhousecms.co.uk/Diary/Year-6-Bikeability-Group-1-2026-05-18</a>
END:VEVENT
BEGIN:VEVENT
DTSTAMP:20260423T101400
DTSTART:20260624T133000
DTEND:20260624T143000
UID:http://winterslowsp5.greenhousecms.co.uk/Diary/Prospective-Reception-Stay-and-Play-2026-06-24/index.asp?PCID=140931
URL;VALUE=URI:http://winterslowsp5.greenhousecms.co.uk/Diary/Prospective-Reception-Stay-and-Play-2026-06-24
SUMMARY:Prospective Reception Stay and Play
DESCRIPTION: More details - <a id="140931" href="http://winterslowsp5.greenhousecms.co.uk/Diary/Prospective-Reception-Stay-and-Play-2026-06-24">http://winterslowsp5.greenhousecms.co.uk/Diary/Prospective-Reception-Stay-and-Play-2026-06-24</a>
END:VEVENT
BEGIN:VEVENT
DTSTAMP:20260423T101400
DTSTART:20260703T093000
DTEND:20260703T103000
UID:http://winterslowsp5.greenhousecms.co.uk/Diary/Prospective-Reception-Stay-and-Play-2026-07-03/index.asp?PCID=140944
URL;VALUE=URI:http://winterslowsp5.greenhousecms.co.uk/Diary/Prospective-Reception-Stay-and-Play-2026-07-03
SUMMARY:Prospective Reception Stay and Play
DESCRIPTION: More details - <a id="140944" href="http://winterslowsp5.greenhousecms.co.uk/Diary/Prospective-Reception-Stay-and-Play-2026-07-03">http://winterslowsp5.greenhousecms.co.uk/Diary/Prospective-Reception-Stay-and-Play-2026-07-03</a>
END:VEVENT
BEGIN:VEVENT
DTSTAMP:20260423T101400
DTSTART:20260710
UID:http://winterslowsp5.greenhousecms.co.uk/Diary/Speech-Celebration-Worship-2026-07-10/index.asp?PCID=140945
URL;VALUE=URI:http://winterslowsp5.greenhousecms.co.uk/Diary/Speech-Celebration-Worship-2026-07-10
SUMMARY:Speech Celebration Worship
DESCRIPTION: More details - <a id="140945" href="http://winterslowsp5.greenhousecms.co.uk/Diary/Speech-Celebration-Worship-2026-07-10">http://winterslowsp5.greenhousecms.co.uk/Diary/Speech-Celebration-Worship-2026-07-10</a>
END:VEVENT
BEGIN:VEVENT
DTSTAMP:20260423T101400
DTSTART:20260712T120000
DTEND:20260712T124500
UID:http://winterslowsp5.greenhousecms.co.uk/Diary/Teddy-Bears-Picnic-for-Prospective-Rece-2026-07-12/index.asp?PCID=140946
URL;VALUE=URI:http://winterslowsp5.greenhousecms.co.uk/Diary/Teddy-Bears-Picnic-for-Prospective-Rece-2026-07-12
SUMMARY:Teddy Bears Picnic for Prospective Reception families
DESCRIPTION: More details - <a id="140946" href="http://winterslowsp5.greenhousecms.co.uk/Diary/Teddy-Bears-Picnic-for-Prospective-Rece-2026-07-12">http://winterslowsp5.greenhousecms.co.uk/Diary/Teddy-Bears-Picnic-for-Prospective-Rece-2026-07-12</a>
END:VEVENT
BEGIN:VEVENT
DTSTAMP:20260423T101400
DTSTART:20260717T091500
DTEND:20260717T094500
UID:http://winterslowsp5.greenhousecms.co.uk/Diary/Rocksteady-Summer-Term-Concert-2026-07-17/index.asp?PCID=140947
URL;VALUE=URI:http://winterslowsp5.greenhousecms.co.uk/Diary/Rocksteady-Summer-Term-Concert-2026-07-17
SUMMARY:Rocksteady Summer Term Concert
DESCRIPTION: More details - <a id="140947" href="http://winterslowsp5.greenhousecms.co.uk/Diary/Rocksteady-Summer-Term-Concert-2026-07-17">http://winterslowsp5.greenhousecms.co.uk/Diary/Rocksteady-Summer-Term-Concert-2026-07-17</a>
END:VEVENT
BEGIN:VEVENT
DTSTAMP:20260423T101400
DTSTART:20260722T093000
DTEND:20260722T103000
UID:http://winterslowsp5.greenhousecms.co.uk/Diary/Year-6-Leavers-Service-at-Church-2026-07-22/index.asp?PCID=140901
URL;VALUE=URI:http://winterslowsp5.greenhousecms.co.uk/Diary/Year-6-Leavers-Service-at-Church-2026-07-22
SUMMARY:Year 6 Leavers Service at Church
DESCRIPTION: More details - <a id="140901" href="http://winterslowsp5.greenhousecms.co.uk/Diary/Year-6-Leavers-Service-at-Church-2026-07-22">http://winterslowsp5.greenhousecms.co.uk/Diary/Year-6-Leavers-Service-at-Church-2026-07-22</a>
END:VEVENT
END:VCALENDAR
