BEGIN:VCALENDAR
X-WR-TIMEZONE:Europe/London
PRODID:-//Apple Inc.//iCal 3.0//EN
CALSCALE:GREGORIAN
X-LOTUS-CHARSET:UTF-8
X-WR-CALNAME:Winterslow CofE (Aided) Primary School Holidays Calendar
X-WR-CALDESC:Winterslow CofE (Aided) Primary School Holidays Calendar
VERSION:2.0
METHOD:PUBLISH
BEGIN:VEVENT
DTSTAMP:20260423T101400
DTSTART:20260504
UID:http://winterslowsp5.greenhousecms.co.uk/Diary/Bank-Holiday-School-Closed-2026-05-04/index.asp?PCID=140892
URL;VALUE=URI:http://winterslowsp5.greenhousecms.co.uk/Diary/Bank-Holiday-School-Closed-2026-05-04
SUMMARY:Bank Holiday School Closed
DESCRIPTION: More details - <a id="140892" href="http://winterslowsp5.greenhousecms.co.uk/Diary/Bank-Holiday-School-Closed-2026-05-04">http://winterslowsp5.greenhousecms.co.uk/Diary/Bank-Holiday-School-Closed-2026-05-04</a>
END:VEVENT
BEGIN:VEVENT
DTSTAMP:20260423T101400
DTSTART:20260525T000000
DTEND:20260529T235900
UID:http://winterslowsp5.greenhousecms.co.uk/Diary/Half-Term-Break-School-Closed-2026-05-25/index.asp?PCID=140898
URL;VALUE=URI:http://winterslowsp5.greenhousecms.co.uk/Diary/Half-Term-Break-School-Closed-2026-05-25
SUMMARY:Half Term Break School Closed
DESCRIPTION: More details - <a id="140898" href="http://winterslowsp5.greenhousecms.co.uk/Diary/Half-Term-Break-School-Closed-2026-05-25">http://winterslowsp5.greenhousecms.co.uk/Diary/Half-Term-Break-School-Closed-2026-05-25</a>
END:VEVENT
END:VCALENDAR
